View In:
ArcGIS JavaScript
ArcGIS Online Map Viewer
ArcGIS Earth
Service Description: vientos2006
Name: vientos2006
Description:
Single Fused Map Cache: false
Extent:
XMin: -9098875.221761124
YMin: -471065.00856112246
XMax: -7451082.530077325
YMax: 1504973.2392349872
Spatial Reference: 102100
(3857)
LatestVCSWkid(0)
Initial Extent:
XMin: -9098875.221761124
YMin: -471065.00856112246
XMax: -7451082.530077325
YMax: 1504973.2392349872
Spatial Reference: 102100
(3857)
LatestVCSWkid(0)
Full Extent:
XMin: -9098875.221761124
YMin: -471065.00856112246
XMax: -7451082.530077325
YMax: 1504973.2392349872
Spatial Reference: 102100
(3857)
LatestVCSWkid(0)
Pixel Size X: 6564.911122246212
Pixel Size Y: 6564.911122246212
Band Count: 2
Pixel Type: F32
RasterFunction Infos: {"rasterFunctionInfos": [{
"name": "None",
"description": "",
"help": ""
}]}
Mensuration Capabilities:
Inspection Capabilities:
Has Histograms: true
Has Colormap: false
Has Multi Dimensions : false
Rendering Rule:
Min Scale: 0
Max Scale: 0
Copyright Text:
Service Data Type: esriImageServiceDataTypeVector-MagDir
Min Values: 0.10777410864830017, 2.4448673725128174
Max Values: 9.627477645874023, 358.914794921875
Mean Values: 1.799664175274685, 189.93634159357396
Standard Deviation Values: 1.2489425806321692, 58.85932904014039
Object ID Field:
Fields:
None
Default Mosaic Method: Center
Allowed Mosaic Methods:
SortField:
SortValue: null
Mosaic Operator: First
Default Compression Quality: 75
Default Resampling Method: Bilinear
Max Record Count: null
Max Image Height: 4100
Max Image Width: 15000
Max Download Image Count: null
Max Mosaic Image Count: null
Allow Raster Function: true
Allow Copy: true
Allow Analysis: true
Allow Compute TiePoints: false
Supports Statistics: false
Supports Advanced Queries: false
Use StandardizedQueries: true
Raster Type Infos:
Name: Raster Dataset
Description: Supports all ArcGIS Raster Datasets
Help:
Has Raster Attribute Table: false
Edit Fields Info: null
Ownership Based AccessControl For Rasters: null
Child Resources:
Info
Histograms
Statistics
Key Properties
Legend
Raster Function Infos
Supported Operations:
Export Image
Identify
Compute Histograms
Compute Statistics Histograms
Get Samples
Compute Class Statistics
Query Boundary
Compute Pixel Location
Compute Angles
Validate
Project