{
 "currentVersion": 11.5,
 "serviceDescription": "vientos2006",
 "serviceItemId": "61a36ffd688946b593574761f17624b4",
 "name": "vientos2006",
 "description": "",
 "extent": {
  "xmin": -9098875.221761124,
  "ymin": -471065.00856112246,
  "xmax": -7451082.530077325,
  "ymax": 1504973.2392349872,
  "spatialReference": {
   "wkid": 102100,
   "latestWkid": 3857
  }
 },
 "initialExtent": {
  "xmin": -9098875.221761124,
  "ymin": -471065.00856112246,
  "xmax": -7451082.530077325,
  "ymax": 1504973.2392349872,
  "spatialReference": {
   "wkid": 102100,
   "latestWkid": 3857
  }
 },
 "fullExtent": {
  "xmin": -9098875.221761124,
  "ymin": -471065.00856112246,
  "xmax": -7451082.530077325,
  "ymax": 1504973.2392349872,
  "spatialReference": {
   "wkid": 102100,
   "latestWkid": 3857
  }
 },
 "sortableFields": "",
 "bandCount": 2,
 "pixelType": "F32",
 "minValues": [
  0.10777410864830017,
  2.4448673725128174
 ],
 "maxValues": [
  9.627477645874023,
  358.914794921875
 ],
 "meanValues": [
  1.799664175274685,
  189.93634159357396
 ],
 "stdvValues": [
  1.2489425806321692,
  58.85932904014039
 ],
 "serviceProperties": "Center<\/MosaicMethod>First<\/MosaicOperator>true<\/SortAscending><\/LockImageID><\/TileOrderField>0<\/TileOrderBase>0.000000<\/AvgImageSpacingX>0.000000<\/AvgImageSpacingY>0.0<\/ViewPointX>0.0<\/ViewPointY>0.0<\/ViewPointDefShiftX>0.0<\/ViewPointDefShiftY>None<\/CompressionMethod>75<\/CompressionQuality>0.010000<\/CompressionTolerance>Bilinear<\/SamplingMethod><\/ImageServiceProperties><\/ImageServer>",
 "allowedFields": "",
 "hasMultidimensions": false,
 "pixelSizeX": 6564.911122246212,
 "pixelSizeY": 6564.911122246212,
 "meanPixelSize": 6564.911122246212,
 "datasetFormat": "Cache/LERC2D",
 "uncompressedSize": 604408,
 "blockWidth": 256,
 "blockHeight": 256,
 "compressionType": "LERC2D",
 "bandNames": [
  "Vector-Magnitude",
  "Vector-Direction"
 ],
 "allowCopy": true,
 "allowAnalysis": true,
 "itemAccess": false,
 "inspectionCapabilities": "",
 "minPixelSize": 0,
 "maxPixelSize": 0,
 "copyrightText": "",
 "serviceDataType": "esriImageServiceDataTypeVector-MagDir",
 "serviceSourceType": "esriImageServiceSourceTypeDataset",
 "objectIdField": "",
 "fields": [],
 "capabilities": "Image,Metadata",
 "defaultMosaicMethod": "Center",
 "allowedMosaicMethods": "",
 "sortField": "",
 "sortValue": null,
 "sortAscending": true,
 "mosaicOperator": "First",
 "defaultCompressionQuality": 75,
 "defaultResamplingMethod": "Bilinear",
 "maxImageHeight": 4100,
 "maxImageWidth": 15000,
 "allowRasterFunction": true,
 "rasterFunctionInfos": [
  {
   "name": "None",
   "description": "",
   "help": ""
  }
 ],
 "rasterTypeInfos": [
  {
   "name": "Raster Dataset",
   "description": "Supports all ArcGIS Raster Datasets",
   "help": ""
  }
 ],
 "mensurationCapabilities": "",
 "hasHistograms": true,
 "hasColormap": false,
 "hasRasterAttributeTable": false,
 "minScale": 0,
 "maxScale": 0,
 "exportTilesAllowed": false,
 "supportsStatistics": false,
 "supportsAdvancedQueries": false,
 "editFieldsInfo": null,
 "ownershipBasedAccessControlForRasters": null,
 "allowComputeTiePoints": false,
 "useStandardizedQueries": true,
 "advancedQueryCapabilities": {
  "useStandardizedQueries": true,
  "supportsStatistics": false,
  "supportsOrderBy": false,
  "supportsDistinct": false,
  "supportsPagination": false
 },
 "spatialReference": {
  "wkid": 102100,
  "latestWkid": 3857
 }
}
