View In:
ArcGIS JavaScript
ArcGIS Online Map Viewer
ArcGIS Earth
Service Description: vector_field_magdir_crf
Name: vector_field_magdir_crf
Description:
Single Fused Map Cache: false
Extent:
XMin: -9098875.2217612
YMin: -471065.0085611993
XMax: -7451082.5300388
YMax: 1504973.239281201
Spatial Reference: 102100
(3857)
LatestVCSWkid(0)
Initial Extent:
XMin: -9098875.2217612
YMin: -471065.0085611993
XMax: -7451082.5300388
YMax: 1504973.239281201
Spatial Reference: 102100
(3857)
LatestVCSWkid(0)
Full Extent:
XMin: -9098875.2217612
YMin: -471065.0085611993
XMax: -7451082.5300388
YMax: 1504973.239281201
Spatial Reference: 102100
(3857)
LatestVCSWkid(0)
Pixel Size X: 6564.911122400002
Pixel Size Y: 6564.911122400001
Band Count: 2
Pixel Type: F32
RasterFunction Infos: {"rasterFunctionInfos": [{
"name": "None",
"description": "",
"help": ""
}]}
Mensuration Capabilities: Basic
Inspection Capabilities:
Has Histograms: true
Has Colormap: false
Has Multi Dimensions : false
Rendering Rule:
Min Scale: 0
Max Scale: 0
Copyright Text:
Service Data Type: esriImageServiceDataTypeVector-UV
Min Values: -6.256136894226074, -6.400662899017334
Max Values: 9.343318939208984, 6.8646416664123535
Mean Values: 1.0999629354713918, -0.4051119948820101
Standard Deviation Values: 2.1686749326254127, 1.5551372681392353
Object ID Field:
Fields:
None
Default Mosaic Method: Center
Allowed Mosaic Methods:
SortField:
SortValue: null
Mosaic Operator: First
Default Compression Quality: 75
Default Resampling Method: Bilinear
Max Record Count: null
Max Image Height: 4100
Max Image Width: 15000
Max Download Image Count: null
Max Mosaic Image Count: null
Allow Raster Function: true
Allow Copy: true
Allow Analysis: true
Allow Compute TiePoints: false
Supports Statistics: false
Supports Advanced Queries: false
Use StandardizedQueries: true
Raster Type Infos:
Name: Raster Dataset
Description: Supports all ArcGIS Raster Datasets
Help:
Has Raster Attribute Table: false
Edit Fields Info: null
Ownership Based AccessControl For Rasters: null
Child Resources:
Info
Histograms
Statistics
Key Properties
Legend
Raster Function Infos
Supported Operations:
Export Image
Identify
Measure
Compute Histograms
Compute Statistics Histograms
Get Samples
Compute Class Statistics
Query Boundary
Compute Pixel Location
Compute Angles
Validate
Project