View In:
ArcGIS JavaScript
ArcGIS Online Map Viewer
ArcGIS Earth
Service Description: Publish las MD
Name: vector_field_UV2_crf
Description: Publish las MD
Single Fused Map Cache: false
Extent:
XMin: -9008972.910859
YMin: -541801.6812589986
XMax: -8445644.946841
YMax: 113543.99799700174
Spatial Reference: 102100
(3857)
LatestVCSWkid(0)
Initial Extent:
XMin: -9008972.910859
YMin: -541801.6812589986
XMax: -8445644.946841
YMax: 113543.99799700174
Spatial Reference: 102100
(3857)
LatestVCSWkid(0)
Full Extent:
XMin: -9008972.910859
YMin: -541801.6812589986
XMax: -8445644.946841
YMax: 113543.99799700174
Spatial Reference: 102100
(3857)
LatestVCSWkid(0)
Pixel Size X: 2244.334518000001
Pixel Size Y: 2244.334518000001
Band Count: 2
Pixel Type: F32
RasterFunction Infos: {"rasterFunctionInfos": [{
"name": "None",
"description": "",
"help": ""
}]}
Mensuration Capabilities: Basic
Inspection Capabilities:
Has Histograms: true
Has Colormap: false
Has Multi Dimensions : false
Rendering Rule:
Min Scale: 0
Max Scale: 0
Copyright Text:
Service Data Type: esriImageServiceDataTypeVector-MagDir
Min Values: 0.11878760904073715, 1.0078784227371216
Max Values: 6.4136505126953125, 354.6599426269531
Mean Values: 1.5547759728933195, 208.4578298828057
Standard Deviation Values: 0.6841026535419616, 57.816111804891115
Object ID Field:
Fields:
None
Default Mosaic Method: Center
Allowed Mosaic Methods:
SortField:
SortValue: null
Mosaic Operator: First
Default Compression Quality: 75
Default Resampling Method: Bilinear
Max Record Count: null
Max Image Height: 4100
Max Image Width: 15000
Max Download Image Count: null
Max Mosaic Image Count: null
Allow Raster Function: true
Allow Copy: true
Allow Analysis: true
Allow Compute TiePoints: false
Supports Statistics: false
Supports Advanced Queries: false
Use StandardizedQueries: true
Raster Type Infos:
Name: Raster Dataset
Description: Supports all ArcGIS Raster Datasets
Help:
Has Raster Attribute Table: false
Edit Fields Info: null
Ownership Based AccessControl For Rasters: null
Child Resources:
Info
Histograms
Statistics
Key Properties
Legend
Raster Function Infos
Supported Operations:
Export Image
Identify
Measure
Compute Histograms
Compute Statistics Histograms
Get Samples
Compute Class Statistics
Query Boundary
Compute Pixel Location
Compute Angles
Validate
Project