View In:
ArcGIS JavaScript
ArcGIS Online Map Viewer
ArcGIS Earth
Service Description: La_Paraguay_tif
Name: La_Paraguay_tif
Description:
Single Fused Map Cache: false
Extent:
XMin: 480426.0
YMin: 877431.0
XMax: 487878.0
YMax: 882303.0
Spatial Reference: 32618
(32618)
LatestVCSWkid(0)
Initial Extent:
XMin: 480426.0
YMin: 877431.0
XMax: 487878.0
YMax: 882303.0
Spatial Reference: 32618
(32618)
LatestVCSWkid(0)
Full Extent:
XMin: 480426.0
YMin: 877431.0
XMax: 487878.0
YMax: 882303.0
Spatial Reference: 32618
(32618)
LatestVCSWkid(0)
Pixel Size X: 3.0
Pixel Size Y: 3.0
Band Count: 8
Pixel Type: U16
RasterFunction Infos: {"rasterFunctionInfos": [{
"name": "None",
"description": "",
"help": ""
}]}
Mensuration Capabilities: Basic
Inspection Capabilities:
Has Histograms: true
Has Colormap: false
Has Multi Dimensions : false
Rendering Rule:
Min Scale: 0
Max Scale: 0
Copyright Text:
Service Data Type: esriImageServiceDataTypeGeneric
Min Values: 248, 375, 420, 485, 415, 336, 551, 914
Max Values: 3891, 3490, 3818, 4552, 6308, 4273, 5710, 8471
Mean Values: 647.65311375665, 644.14404085244, 748.00943269126, 871.01378738728, 860.16911977897, 791.81649681034, 1328.164834619, 3277.6194694771
Standard Deviation Values: 109.70345242526, 124.48131386717, 134.37367639022, 157.41743249459, 211.46029723096, 257.14899653719, 212.38120331774, 544.78341997413
Object ID Field:
Fields:
None
Default Mosaic Method: Center
Allowed Mosaic Methods:
SortField:
SortValue: null
Mosaic Operator: First
Default Compression Quality: 75
Default Resampling Method: Bilinear
Max Record Count: null
Max Image Height: 4100
Max Image Width: 15000
Max Download Image Count: null
Max Mosaic Image Count: null
Allow Raster Function: true
Allow Copy: true
Allow Analysis: true
Allow Compute TiePoints: false
Supports Statistics: false
Supports Advanced Queries: false
Use StandardizedQueries: true
Raster Type Infos:
Name: Raster Dataset
Description: Supports all ArcGIS Raster Datasets
Help:
Has Raster Attribute Table: false
Edit Fields Info: null
Ownership Based AccessControl For Rasters: null
Child Resources:
Info
Histograms
Statistics
Key Properties
Legend
Raster Function Infos
Supported Operations:
Export Image
Identify
Measure
Compute Histograms
Compute Statistics Histograms
Get Samples
Compute Class Statistics
Query Boundary
Compute Pixel Location
Compute Angles
Validate
Project