View In:
ArcGIS JavaScript
ArcGIS Online Map Viewer
ArcGIS Earth
Service Description: Dem500
Name: Dem500
Description:
Single Fused Map Cache: false
Extent:
XMin: 4330516.406934147
YMin: 1090222.2110759988
XMax: 5684516.406934147
YMax: 2935222.211075999
Spatial Reference: 0
(0)
LatestVCSWkid(0)
Initial Extent:
XMin: 4330516.406934147
YMin: 1090222.2110759988
XMax: 5684516.406934147
YMax: 2935222.211075999
Spatial Reference: 0
(0)
LatestVCSWkid(0)
Full Extent:
XMin: 4330516.406934147
YMin: 1090222.2110759988
XMax: 5684516.406934147
YMax: 2935222.211075999
Spatial Reference: 0
(0)
LatestVCSWkid(0)
Pixel Size X: 500.0
Pixel Size Y: 500.0
Band Count: 1
Pixel Type: F32
RasterFunction Infos: {"rasterFunctionInfos": [
{
"name": "None",
"description": "Make a Raster or Raster Dataset into a Function Raster Dataset.",
"help": ""
},
{
"name": "DEMJP500",
"description": "DEMJP500",
"help": ""
}
]}
Mensuration Capabilities: Basic
Inspection Capabilities:
Has Histograms: false
Has Colormap: false
Has Multi Dimensions : false
Rendering Rule:
Min Scale: 0
Max Scale: 0
Copyright Text:
Service Data Type: esriImageServiceDataTypeGeneric
Min Values: -77.71195220947266
Max Values: 5560.43408203125
Mean Values: 560.4717407281548
Standard Deviation Values: 825.6762636785803
Object ID Field:
Fields:
None
Default Mosaic Method: Center
Allowed Mosaic Methods:
SortField:
SortValue: null
Mosaic Operator: First
Default Compression Quality: 75
Default Resampling Method: Bilinear
Max Record Count: null
Max Image Height: 4100
Max Image Width: 15000
Max Download Image Count: null
Max Mosaic Image Count: null
Allow Raster Function: true
Allow Copy: true
Allow Analysis: true
Allow Compute TiePoints: false
Supports Statistics: false
Supports Advanced Queries: false
Use StandardizedQueries: true
Raster Type Infos:
Name: Raster Dataset
Description: Supports all ArcGIS Raster Datasets
Help:
Has Raster Attribute Table: false
Edit Fields Info: null
Ownership Based AccessControl For Rasters: null
Child Resources:
Info
Statistics
Key Properties
Legend
Raster Function Infos
Supported Operations:
Export Image
Identify
Measure
Compute Histograms
Compute Statistics Histograms
Get Samples
Compute Class Statistics
Query Boundary
Compute Pixel Location
Compute Angles
Validate
Project