View In:
ArcGIS JavaScript
ArcGIS Online Map Viewer
ArcGIS Earth
Service Description: DEM_Colombia
Name: DEM_Colombia
Description:
Single Fused Map Cache: false
Extent:
XMin: 4330516.406934147
YMin: 1090522.2110759988
XMax: 5684416.406934147
YMax: 2935222.211075999
Spatial Reference: 0
(0)
LatestVCSWkid(0)
Initial Extent:
XMin: 4330516.406934147
YMin: 1090522.2110759988
XMax: 5684416.406934147
YMax: 2935222.211075999
Spatial Reference: 0
(0)
LatestVCSWkid(0)
Full Extent:
XMin: 4330516.406934147
YMin: 1090522.2110759988
XMax: 5684416.406934147
YMax: 2935222.211075999
Spatial Reference: 0
(0)
LatestVCSWkid(0)
Pixel Size X: 300.0
Pixel Size Y: 300.0
Band Count: 1
Pixel Type: F32
RasterFunction Infos: {"rasterFunctionInfos": [{
"name": "None",
"description": "",
"help": ""
}]}
Mensuration Capabilities: Basic
Inspection Capabilities:
Has Histograms: false
Has Colormap: false
Has Multi Dimensions : false
Rendering Rule:
Min Scale: 0
Max Scale: 0
Copyright Text:
Service Data Type: esriImageServiceDataTypeGeneric
Min Values: -90.38713836669922
Max Values: 5627.9599609375
Mean Values: 560.4707490709498
Standard Deviation Values: 825.6805061443403
Object ID Field:
Fields:
None
Default Mosaic Method: Center
Allowed Mosaic Methods:
SortField:
SortValue: null
Mosaic Operator: First
Default Compression Quality: 75
Default Resampling Method: Bilinear
Max Record Count: null
Max Image Height: 4100
Max Image Width: 15000
Max Download Image Count: null
Max Mosaic Image Count: null
Allow Raster Function: true
Allow Copy: true
Allow Analysis: true
Allow Compute TiePoints: false
Supports Statistics: false
Supports Advanced Queries: false
Use StandardizedQueries: true
Raster Type Infos:
Name: Raster Dataset
Description: Supports all ArcGIS Raster Datasets
Help:
Has Raster Attribute Table: false
Edit Fields Info: null
Ownership Based AccessControl For Rasters: null
Child Resources:
Info
Statistics
Key Properties
Legend
Raster Function Infos
Supported Operations:
Export Image
Identify
Measure
Compute Histograms
Compute Statistics Histograms
Get Samples
Compute Class Statistics
Query Boundary
Compute Pixel Location
Compute Angles
Validate
Project