View In:
ArcGIS JavaScript
ArcGIS Online Map Viewer
ArcGIS Earth
Service Description: 01_Averages_1ASO_AugIC_chirps_t_tif
Name: 01_Averages_1ASO_AugIC_chirps_t_tif
Description:
Single Fused Map Cache: false
Extent:
XMin: -74.44977952799991
YMin: 3.73103034187735
XMax: -73.98650902799992
YMax: 4.8367888418773335
Spatial Reference: 4326
(4326)
LatestVCSWkid(0)
Initial Extent:
XMin: -74.44977952799991
YMin: 3.73103034187735
XMax: -73.98650902799992
YMax: 4.8367888418773335
Spatial Reference: 4326
(4326)
LatestVCSWkid(0)
Full Extent:
XMin: -74.44977952799991
YMin: 3.73103034187735
XMax: -73.98650902799992
YMax: 4.8367888418773335
Spatial Reference: 4326
(4326)
LatestVCSWkid(0)
Pixel Size X: 2.694999999999959E-4
Pixel Size Y: 2.69499999999996E-4
Band Count: 1
Pixel Type: F32
RasterFunction Infos: {"rasterFunctionInfos": [{
"name": "None",
"description": "",
"help": ""
}]}
Mensuration Capabilities: Basic
Inspection Capabilities:
Has Histograms: true
Has Colormap: false
Has Multi Dimensions : false
Rendering Rule:
Min Scale: 0
Max Scale: 0
Copyright Text:
Service Data Type: esriImageServiceDataTypeGeneric
Min Values: 57.569442749023
Max Values: 132.9136505127
Mean Values: 90.796755431124
Standard Deviation Values: 19.326576015477
Object ID Field:
Fields:
None
Default Mosaic Method: Center
Allowed Mosaic Methods:
SortField:
SortValue: null
Mosaic Operator: First
Default Compression Quality: 75
Default Resampling Method: Bilinear
Max Record Count: null
Max Image Height: 4100
Max Image Width: 15000
Max Download Image Count: null
Max Mosaic Image Count: null
Allow Raster Function: true
Allow Copy: true
Allow Analysis: true
Allow Compute TiePoints: false
Supports Statistics: false
Supports Advanced Queries: false
Use StandardizedQueries: true
Raster Type Infos:
Name: Raster Dataset
Description: Supports all ArcGIS Raster Datasets
Help:
Has Raster Attribute Table: false
Edit Fields Info: null
Ownership Based AccessControl For Rasters: null
Child Resources:
Info
Histograms
Statistics
Key Properties
Legend
Raster Function Infos
Supported Operations:
Export Image
Identify
Measure
Compute Histograms
Compute Statistics Histograms
Get Samples
Compute Class Statistics
Query Boundary
Compute Pixel Location
Compute Angles
Validate
Project