<?xml version="1.0" encoding="UTF-8" standalone="no"?>
<metadata xml:lang="es">
<Esri>
<CreaDate>20240925</CreaDate>
<CreaTime>12131000</CreaTime>
<ArcGISFormat>1.0</ArcGISFormat>
<SyncOnce>FALSE</SyncOnce>
<DataProperties>
<itemProps>
<itemName Sync="TRUE">vector_field_magdir2.crf</itemName>
<itemLocation>
<linkage Sync="TRUE">file://C:\arcpyExamples\vector_field_magdir2.crf</linkage>
<protocol Sync="TRUE">Local Area Network</protocol>
</itemLocation>
<imsContentType Sync="TRUE">002</imsContentType>
<nativeExtBox>
<westBL Sync="TRUE">-9008972.910859</westBL>
<eastBL Sync="TRUE">-8445644.946841</eastBL>
<southBL Sync="TRUE">-541801.681259</southBL>
<northBL Sync="TRUE">113543.997997</northBL>
<exTypeCode Sync="TRUE">1</exTypeCode>
</nativeExtBox>
</itemProps>
<coordRef>
<type Sync="TRUE">Projected</type>
<geogcsn Sync="TRUE">GCS_WGS_1984</geogcsn>
<csUnits Sync="TRUE">Linear Unit: Meter (1.000000)</csUnits>
<projcsn Sync="TRUE">WGS_1984_Web_Mercator_Auxiliary_Sphere</projcsn>
<peXml Sync="TRUE">&lt;ProjectedCoordinateSystem xsi:type='typens:ProjectedCoordinateSystem' xmlns:xsi='http://www.w3.org/2001/XMLSchema-instance' xmlns:xs='http://www.w3.org/2001/XMLSchema' xmlns:typens='http://www.esri.com/schemas/ArcGIS/3.2.0'&gt;&lt;WKT&gt;PROJCS[&amp;quot;WGS_1984_Web_Mercator_Auxiliary_Sphere&amp;quot;,GEOGCS[&amp;quot;GCS_WGS_1984&amp;quot;,DATUM[&amp;quot;D_WGS_1984&amp;quot;,SPHEROID[&amp;quot;WGS_1984&amp;quot;,6378137.0,298.257223563]],PRIMEM[&amp;quot;Greenwich&amp;quot;,0.0],UNIT[&amp;quot;Degree&amp;quot;,0.0174532925199433]],PROJECTION[&amp;quot;Mercator_Auxiliary_Sphere&amp;quot;],PARAMETER[&amp;quot;False_Easting&amp;quot;,0.0],PARAMETER[&amp;quot;False_Northing&amp;quot;,0.0],PARAMETER[&amp;quot;Central_Meridian&amp;quot;,0.0],PARAMETER[&amp;quot;Standard_Parallel_1&amp;quot;,0.0],PARAMETER[&amp;quot;Auxiliary_Sphere_Type&amp;quot;,0.0],UNIT[&amp;quot;Meter&amp;quot;,1.0],AUTHORITY[&amp;quot;EPSG&amp;quot;,3857]]&lt;/WKT&gt;&lt;XOrigin&gt;-20037700&lt;/XOrigin&gt;&lt;YOrigin&gt;-30241100&lt;/YOrigin&gt;&lt;XYScale&gt;148923141.92838538&lt;/XYScale&gt;&lt;ZOrigin&gt;-100000&lt;/ZOrigin&gt;&lt;ZScale&gt;10000&lt;/ZScale&gt;&lt;MOrigin&gt;-100000&lt;/MOrigin&gt;&lt;MScale&gt;10000&lt;/MScale&gt;&lt;XYTolerance&gt;0.001&lt;/XYTolerance&gt;&lt;ZTolerance&gt;0.001&lt;/ZTolerance&gt;&lt;MTolerance&gt;0.001&lt;/MTolerance&gt;&lt;HighPrecision&gt;true&lt;/HighPrecision&gt;&lt;WKID&gt;102100&lt;/WKID&gt;&lt;LatestWKID&gt;3857&lt;/LatestWKID&gt;&lt;/ProjectedCoordinateSystem&gt;</peXml>
</coordRef>
<RasterProperties>
<General>
<PixelDepth Sync="TRUE">32</PixelDepth>
<HasColormap Sync="TRUE">FALSE</HasColormap>
<CompressionType Sync="TRUE">LERC2D</CompressionType>
<NumBands Sync="TRUE">2</NumBands>
<Format Sync="TRUE">Cache/LERC2D</Format>
<HasPyramids Sync="TRUE">FALSE</HasPyramids>
<SourceType Sync="TRUE">continuous</SourceType>
<PixelType Sync="TRUE">floating point</PixelType>
<NoDataValue Sync="TRUE"/>
</General>
</RasterProperties>
</DataProperties>
<SyncDate>20240925</SyncDate>
<SyncTime>12131000</SyncTime>
<ModDate>20240925</ModDate>
<ModTime>12131000</ModTime>
</Esri>
<dataIdInfo>
<envirDesc Sync="TRUE">Microsoft Windows 10 Version 10.0 (Build 22631) ; Esri ArcGIS 13.2.2.49743</envirDesc>
<dataLang>
<languageCode Sync="TRUE" value="spa"/>
<countryCode Sync="TRUE" value="COL"/>
</dataLang>
<idCitation>
<resTitle Sync="TRUE">vector_field_magdir2.crf</resTitle>
<presForm>
<PresFormCd Sync="TRUE" value="005"/>
</presForm>
</idCitation>
<spatRpType>
<SpatRepTypCd Sync="TRUE" value="002"/>
</spatRpType>
<dataExt>
<geoEle>
<GeoBndBox esriExtentType="search">
<exTypeCode Sync="TRUE">1</exTypeCode>
<westBL Sync="TRUE">-80.928981</westBL>
<eastBL Sync="TRUE">-75.868519</eastBL>
<northBL Sync="TRUE">1.019929</northBL>
<southBL Sync="TRUE">-4.861244</southBL>
</GeoBndBox>
</geoEle>
</dataExt>
<idAbs>Publish las MD</idAbs>
<searchKeys>
<keyword>las</keyword>
<keyword>image</keyword>
<keyword>service</keyword>
</searchKeys>
<idPurp>Publish las MD</idPurp>
<idCredit/>
<resConst>
<Consts>
<useLimit/>
</Consts>
</resConst>
</dataIdInfo>
<mdLang>
<languageCode Sync="TRUE" value="spa"/>
<countryCode Sync="TRUE" value="COL"/>
</mdLang>
<mdChar>
<CharSetCd Sync="TRUE" value="004"/>
</mdChar>
<distInfo>
<distFormat>
<formatName Sync="TRUE">Raster Dataset</formatName>
</distFormat>
</distInfo>
<mdHrLv>
<ScopeCd Sync="TRUE" value="005"/>
</mdHrLv>
<mdHrLvName Sync="TRUE">dataset</mdHrLvName>
<refSysInfo>
<RefSystem>
<refSysID>
<identCode Sync="TRUE" code="3857"/>
<idCodeSpace Sync="TRUE">EPSG</idCodeSpace>
<idVersion Sync="TRUE">6.18.3(9.3.1.2)</idVersion>
</refSysID>
</RefSystem>
</refSysInfo>
<spatRepInfo>
<Georect>
<cellGeo>
<CellGeoCd Sync="TRUE" value="002"/>
</cellGeo>
<numDims Sync="TRUE">2</numDims>
<tranParaAv Sync="TRUE">1</tranParaAv>
<chkPtAv Sync="TRUE">0</chkPtAv>
<cornerPts>
<pos Sync="TRUE">-9008972.910859 -541801.681259</pos>
</cornerPts>
<cornerPts>
<pos Sync="TRUE">-9008972.910859 113543.997997</pos>
</cornerPts>
<cornerPts>
<pos Sync="TRUE">-8445644.946841 113543.997997</pos>
</cornerPts>
<cornerPts>
<pos Sync="TRUE">-8445644.946841 -541801.681259</pos>
</cornerPts>
<centerPt>
<pos Sync="TRUE">-8727308.928850 -214128.841631</pos>
</centerPt>
<axisDimension type="002">
<dimSize Sync="TRUE">251</dimSize>
<dimResol>
<value Sync="TRUE" uom="m">2244.334518</value>
</dimResol>
</axisDimension>
<axisDimension type="001">
<dimSize Sync="TRUE">292</dimSize>
<dimResol>
<value Sync="TRUE" uom="m">2244.334518</value>
</dimResol>
</axisDimension>
<ptInPixel>
<PixOrientCd Sync="TRUE" value="001"/>
</ptInPixel>
</Georect>
</spatRepInfo>
<contInfo>
<ImgDesc>
<contentTyp>
<ContentTypCd Sync="TRUE" value="001"/>
</contentTyp>
<covDim>
<Band>
<dimDescrp Sync="TRUE">Band_1</dimDescrp>
<bitsPerVal Sync="TRUE">32</bitsPerVal>
<valUnit>
<UOM type="length"/>
</valUnit>
</Band>
<Band>
<dimDescrp Sync="TRUE">Band_2</dimDescrp>
<bitsPerVal Sync="TRUE">32</bitsPerVal>
<valUnit>
<UOM type="length"/>
</valUnit>
</Band>
</covDim>
</ImgDesc>
</contInfo>
<mdDateSt Sync="TRUE">20240925</mdDateSt>
</metadata>
