<?xml version="1.0" encoding="UTF-8" standalone="no"?>
<metadata xml:lang="en">
<Esri>
<CreaDate>20221215</CreaDate>
<CreaTime>14073200</CreaTime>
<ArcGISFormat>1.0</ArcGISFormat>
<SyncOnce>FALSE</SyncOnce>
<DataProperties>
<lineage>
<Process Date="20221128" Time="104411" ToolSource="c:\program files\arcgis\pro\Resources\ArcToolbox\toolboxes\Spatial Analyst Tools.tbx\Combine">Combine WTE_LC_Service.crf;Temperature.crf;Moisture.crf;World_Landforms.tif C:\WTE_for_GGP\WTE_November\World_Terrestrial_Ecosystems_ServiceCombine.crf</Process>
<Process Date="20221215" Time="135204" ToolSource="c:\program files\arcgis\pro\Resources\ArcToolbox\toolboxes\Data Management Tools.tbx\CopyRaster">CopyRaster World_Terrestrial_Ecosystems_NewCombine.crf C:\WTE_for_GGP\WTE_2020_December\World_Terrestrial_Ecosystems # # 65535 NONE NONE "16 bit unsigned" NONE NONE "Cloud raster format" NONE CURRENT_SLICE NO_TRANSPOSE</Process>
<Process Date="20250502" Time="143108" ToolSource="c:\users\apitto\appdata\local\programs\arcgis\pro\Resources\ArcToolbox\toolboxes\Data Management Tools.tbx\Clip">Clip World_Terrestrial_Ecosystems "-76,707175637889 3,27333676010496 -76,4588377870508 3,54852672506989" "D:\Tareas\2025\05.Mayo\GISDay Univalle\Demo\Demo.gdb\World_Terrestrial_Ecosy_Clip" Perímetro_municipal -1 ClippingGeometry NO_MAINTAIN_EXTENT</Process>
<Process Date="20250708" Time="213423" ToolSource="c:\users\apitto\appdata\local\programs\arcgis\pro\Resources\ArcToolbox\Toolboxes\Data Management Tools.tbx\Rename">Rename "D:\Tareas\2025\05.Mayo\GISDay Univalle\Demo\Demo.gdb\World_Terrestrial_Ecosy_Clip" "D:\Tareas\2025\05.Mayo\GISDay Univalle\Demo\Demo.gdb\World_Terrestrial_Ecosystem_Cali" RasterDataset</Process>
</lineage>
<itemProps>
<itemLocation>
<linkage Sync="TRUE">file://\\APITTO\D$\Tareas\2025\05.Mayo\GISDay Univalle\Demo\Demo.gdb</linkage>
<protocol Sync="TRUE">Local Area Network</protocol>
</itemLocation>
<itemName Sync="TRUE">World_Terrestrial_Ecosy_Clip</itemName>
<imsContentType Sync="TRUE">002</imsContentType>
<nativeExtBox>
<westBL Sync="TRUE">-76.708966</westBL>
<eastBL Sync="TRUE">-76.457436</eastBL>
<southBL Sync="TRUE">3.273331</southBL>
<northBL Sync="TRUE">3.549565</northBL>
<exTypeCode Sync="TRUE">1</exTypeCode>
</nativeExtBox>
</itemProps>
<copyHistory>
<copy date="20221215" dest="\\DKARAGULLE01\C$\WTE_for_GGP\WTE_2020_December\WTE_Updated\commondata\raster_data\World_Terrestrial_Ecosystems" source="C:\WTE_for_GGP\WTE_2020_December\World_Terrestrial_Ecosystems" time="14073200"/>
</copyHistory>
<coordRef>
<type Sync="TRUE">Geographic</type>
<geogcsn Sync="TRUE">GCS_WGS_1984</geogcsn>
<csUnits Sync="TRUE">Angular Unit: Degree (0.017453)</csUnits>
<peXml Sync="TRUE">&lt;GeographicCoordinateSystem xsi:type='typens:GeographicCoordinateSystem' xmlns:xsi='http://www.w3.org/2001/XMLSchema-instance' xmlns:xs='http://www.w3.org/2001/XMLSchema' xmlns:typens='http://www.esri.com/schemas/ArcGIS/3.4.0'&gt;&lt;WKT&gt;GEOGCS[&amp;quot;GCS_WGS_1984&amp;quot;,DATUM[&amp;quot;D_WGS_1984&amp;quot;,SPHEROID[&amp;quot;WGS_1984&amp;quot;,6378137.0,298.257223563]],PRIMEM[&amp;quot;Greenwich&amp;quot;,0.0],UNIT[&amp;quot;Degree&amp;quot;,0.0174532925199433],AUTHORITY[&amp;quot;EPSG&amp;quot;,4326]]&lt;/WKT&gt;&lt;XOrigin&gt;-400&lt;/XOrigin&gt;&lt;YOrigin&gt;-400&lt;/YOrigin&gt;&lt;XYScale&gt;11258999068426.238&lt;/XYScale&gt;&lt;ZOrigin&gt;-100000&lt;/ZOrigin&gt;&lt;ZScale&gt;10000&lt;/ZScale&gt;&lt;MOrigin&gt;-100000&lt;/MOrigin&gt;&lt;MScale&gt;10000&lt;/MScale&gt;&lt;XYTolerance&gt;8.983152841195215e-09&lt;/XYTolerance&gt;&lt;ZTolerance&gt;0.001&lt;/ZTolerance&gt;&lt;MTolerance&gt;0.001&lt;/MTolerance&gt;&lt;HighPrecision&gt;true&lt;/HighPrecision&gt;&lt;LeftLongitude&gt;-180&lt;/LeftLongitude&gt;&lt;WKID&gt;4326&lt;/WKID&gt;&lt;LatestWKID&gt;4326&lt;/LatestWKID&gt;&lt;/GeographicCoordinateSystem&gt;</peXml>
</coordRef>
<RasterProperties>
<General>
<PixelDepth Sync="TRUE">16</PixelDepth>
<HasColormap Sync="TRUE">FALSE</HasColormap>
<CompressionType Sync="TRUE">LERC2D</CompressionType>
<NumBands Sync="TRUE">1</NumBands>
<Format Sync="TRUE">Cache/LERC2D</Format>
<HasPyramids Sync="TRUE">TRUE</HasPyramids>
<SourceType Sync="TRUE">discrete</SourceType>
<PixelType Sync="TRUE">unsigned integer</PixelType>
<NoDataValue Sync="TRUE">65535</NoDataValue>
</General>
</RasterProperties>
</DataProperties>
<SyncDate>20250502</SyncDate>
<SyncTime>14310800</SyncTime>
<ModDate>20250502</ModDate>
<ModTime>14310800</ModTime>
</Esri>
<dataIdInfo>
<envirDesc Sync="TRUE">Microsoft Windows 10 Version 10.0 (Build 19045) ; Esri ArcGIS 13.4.0.55405</envirDesc>
<dataLang>
<languageCode Sync="TRUE" value="spa"/>
<countryCode Sync="TRUE" value="COL"/>
</dataLang>
<idCitation>
<resTitle Sync="TRUE">World_Terrestrial_Ecosystem_Cali</resTitle>
<presForm>
<PresFormCd Sync="TRUE" value="011"/>
</presForm>
</idCitation>
<spatRpType>
<SpatRepTypCd Sync="TRUE" value="002"/>
</spatRpType>
<dataExt>
<geoEle>
<GeoBndBox esriExtentType="search">
<exTypeCode Sync="TRUE">1</exTypeCode>
<westBL Sync="TRUE">-76.708966</westBL>
<eastBL Sync="TRUE">-76.457436</eastBL>
<northBL Sync="TRUE">3.549565</northBL>
<southBL Sync="TRUE">3.273331</southBL>
</GeoBndBox>
</geoEle>
</dataExt>
<idAbs/>
<searchKeys>
<keyword>Colombia</keyword>
<keyword>Ecosistemas</keyword>
<keyword>Cali</keyword>
</searchKeys>
<idPurp>Ecosistema Terrestre Mundial de la ciudad de Cali, Colombia</idPurp>
<idCredit/>
<resConst>
<Consts>
<useLimit/>
</Consts>
</resConst>
</dataIdInfo>
<mdLang>
<languageCode Sync="TRUE" value="spa"/>
<countryCode Sync="TRUE" value="COL"/>
</mdLang>
<mdChar>
<CharSetCd Sync="TRUE" value="004"/>
</mdChar>
<distInfo>
<distFormat>
<formatName Sync="TRUE">File Geodatabase Raster Dataset</formatName>
</distFormat>
</distInfo>
<mdHrLv>
<ScopeCd Sync="TRUE" value="005"/>
</mdHrLv>
<mdHrLvName Sync="TRUE">dataset</mdHrLvName>
<refSysInfo>
<RefSystem>
<refSysID>
<identCode Sync="TRUE" code="4326"/>
<idCodeSpace Sync="TRUE">EPSG</idCodeSpace>
<idVersion Sync="TRUE">6.2(3.0.1)</idVersion>
</refSysID>
</RefSystem>
</refSysInfo>
<spatRepInfo>
<Georect>
<cellGeo>
<CellGeoCd Sync="TRUE" value="002"/>
</cellGeo>
<numDims Sync="TRUE">2</numDims>
<tranParaAv Sync="TRUE">1</tranParaAv>
<chkPtAv Sync="TRUE">0</chkPtAv>
<cornerPts>
<pos Sync="TRUE">-179.999999 -56.000042</pos>
</cornerPts>
<cornerPts>
<pos Sync="TRUE">-179.999999 83.625774</pos>
</cornerPts>
<cornerPts>
<pos Sync="TRUE">179.999335 83.625774</pos>
</cornerPts>
<cornerPts>
<pos Sync="TRUE">179.999335 -56.000042</pos>
</cornerPts>
<centerPt>
<pos Sync="TRUE">-0.000332 13.812866</pos>
</centerPt>
<axisDimension type="002">
<dimSize Sync="TRUE">160299</dimSize>
<dimResol>
<value Sync="TRUE" uom="deg">0.002246</value>
</dimResol>
</axisDimension>
<axisDimension type="001">
<dimSize Sync="TRUE">62172</dimSize>
<dimResol>
<value Sync="TRUE" uom="deg">0.002246</value>
</dimResol>
</axisDimension>
<ptInPixel>
<PixOrientCd Sync="TRUE" value="001"/>
</ptInPixel>
</Georect>
</spatRepInfo>
<eainfo>
<detailed Name="VAT_World_Terrestrial_Ecosy_Clip">
<enttyp>
<enttypl Sync="TRUE">VAT_World_Terrestrial_Ecosy_Clip</enttypl>
<enttypt Sync="TRUE">Table</enttypt>
<enttypc Sync="TRUE">27</enttypc>
</enttyp>
<attr>
<attrlabl Sync="TRUE">OBJECTID</attrlabl>
<attalias Sync="TRUE">OBJECTID</attalias>
<attrtype Sync="TRUE">OID</attrtype>
<attwidth Sync="TRUE">4</attwidth>
<atprecis Sync="TRUE">0</atprecis>
<attscale Sync="TRUE">0</attscale>
<attrdef Sync="TRUE">Internal feature number.</attrdef>
<attrdefs Sync="TRUE">Esri</attrdefs>
<attrdomv>
<udom Sync="TRUE">Sequential unique whole numbers that are automatically generated.</udom>
</attrdomv>
</attr>
<attr>
<attrlabl Sync="TRUE">Value</attrlabl>
<attalias Sync="TRUE">Value</attalias>
<attrtype Sync="TRUE">Integer</attrtype>
<attwidth Sync="TRUE">4</attwidth>
<atprecis Sync="TRUE">0</atprecis>
<attscale Sync="TRUE">0</attscale>
</attr>
<attr>
<attrlabl Sync="TRUE">Count</attrlabl>
<attalias Sync="TRUE">Count</attalias>
<attrtype Sync="TRUE">Double</attrtype>
<attwidth Sync="TRUE">8</attwidth>
<atprecis Sync="TRUE">0</atprecis>
<attscale Sync="TRUE">0</attscale>
</attr>
<attr>
<attrlabl Sync="TRUE">Landforms</attrlabl>
<attalias Sync="TRUE">Landforms</attalias>
<attrtype Sync="TRUE">String</attrtype>
<attwidth Sync="TRUE">50</attwidth>
<atprecis Sync="TRUE">0</atprecis>
<attscale Sync="TRUE">0</attscale>
</attr>
<attr>
<attrlabl Sync="TRUE">Landcover</attrlabl>
<attalias Sync="TRUE">Landcover</attalias>
<attrtype Sync="TRUE">String</attrtype>
<attwidth Sync="TRUE">50</attwidth>
<atprecis Sync="TRUE">0</atprecis>
<attscale Sync="TRUE">0</attscale>
</attr>
<attr>
<attrlabl Sync="TRUE">Climate_Re</attrlabl>
<attalias Sync="TRUE">Climate_Re</attalias>
<attrtype Sync="TRUE">String</attrtype>
<attwidth Sync="TRUE">254</attwidth>
<atprecis Sync="TRUE">0</atprecis>
<attscale Sync="TRUE">0</attscale>
</attr>
<attr>
<attrlabl Sync="TRUE">Red</attrlabl>
<attalias Sync="TRUE">Red</attalias>
<attrtype Sync="TRUE">Integer</attrtype>
<attwidth Sync="TRUE">4</attwidth>
<atprecis Sync="TRUE">0</atprecis>
<attscale Sync="TRUE">0</attscale>
</attr>
<attr>
<attrlabl Sync="TRUE">Green</attrlabl>
<attalias Sync="TRUE">Green</attalias>
<attrtype Sync="TRUE">Integer</attrtype>
<attwidth Sync="TRUE">4</attwidth>
<atprecis Sync="TRUE">0</atprecis>
<attscale Sync="TRUE">0</attscale>
</attr>
<attr>
<attrlabl Sync="TRUE">Blue</attrlabl>
<attalias Sync="TRUE">Blue</attalias>
<attrtype Sync="TRUE">Integer</attrtype>
<attwidth Sync="TRUE">4</attwidth>
<atprecis Sync="TRUE">0</atprecis>
<attscale Sync="TRUE">0</attscale>
</attr>
<attr>
<attrlabl Sync="TRUE">ClassName</attrlabl>
<attalias Sync="TRUE">ClassName</attalias>
<attrtype Sync="TRUE">String</attrtype>
<attwidth Sync="TRUE">254</attwidth>
<atprecis Sync="TRUE">0</atprecis>
<attscale Sync="TRUE">0</attscale>
</attr>
<attr>
<attrlabl Sync="TRUE">ClimateReg</attrlabl>
<attalias Sync="TRUE">ClimateReg</attalias>
<attrtype Sync="TRUE">Integer</attrtype>
<attwidth Sync="TRUE">4</attwidth>
<atprecis Sync="TRUE">0</atprecis>
<attscale Sync="TRUE">0</attscale>
</attr>
<attr>
<attrlabl Sync="TRUE">Moisture</attrlabl>
<attalias Sync="TRUE">Moisture</attalias>
<attrtype Sync="TRUE">String</attrtype>
<attwidth Sync="TRUE">50</attwidth>
<atprecis Sync="TRUE">0</atprecis>
<attscale Sync="TRUE">0</attscale>
</attr>
<attr>
<attrlabl Sync="TRUE">Temperatur</attrlabl>
<attalias Sync="TRUE">Temperatur</attalias>
<attrtype Sync="TRUE">String</attrtype>
<attwidth Sync="TRUE">50</attwidth>
<atprecis Sync="TRUE">0</atprecis>
<attscale Sync="TRUE">0</attscale>
</attr>
</detailed>
</eainfo>
<contInfo>
<ImgDesc>
<contentTyp>
<ContentTypCd Sync="TRUE" value="002"/>
</contentTyp>
<covDim>
<Band>
<dimDescrp Sync="TRUE">Band_1</dimDescrp>
<maxVal Sync="TRUE">419.000000</maxVal>
<minVal Sync="TRUE">1.000000</minVal>
<bitsPerVal Sync="TRUE">16</bitsPerVal>
<valUnit>
<UOM type="length"/>
</valUnit>
</Band>
</covDim>
</ImgDesc>
</contInfo>
<mdDateSt Sync="TRUE">20250502</mdDateSt>
<spdoinfo>
<rastinfo>
<rasttype Sync="TRUE">Pixel</rasttype>
<rowcount Sync="TRUE">123</rowcount>
<colcount Sync="TRUE">112</colcount>
<rastxsz Sync="TRUE">0,002246</rastxsz>
<rastysz Sync="TRUE">0,002246</rastysz>
<rastbpp Sync="TRUE">16</rastbpp>
<vrtcount Sync="TRUE">1</vrtcount>
<rastorig Sync="TRUE">Upper Left</rastorig>
<rastcmap Sync="TRUE">FALSE</rastcmap>
<rastcomp Sync="TRUE">LZ77</rastcomp>
<rastband Sync="TRUE">1</rastband>
<rastdtyp Sync="TRUE">pixel codes</rastdtyp>
<rastifor Sync="TRUE">FGDBR</rastifor>
<rastplyr Sync="TRUE">TRUE</rastplyr>
</rastinfo>
</spdoinfo>
<spref>
<horizsys>
<planar>
<planci>
<plance Sync="TRUE">row and column</plance>
<coordrep>
<absres Sync="TRUE">0,002246</absres>
<ordres Sync="TRUE">0,002246</ordres>
</coordrep>
</planci>
</planar>
</horizsys>
</spref>
</metadata>
