{
 "currentVersion": 11.5,
 "serviceDescription": "DEM_JP_2",
 "serviceItemId": "24ef6c5e97b64064914580c9845fa699",
 "name": "DEM_JP_2",
 "description": "",
 "extent": {
  "xmin": 4330516.406934147,
  "ymin": 1090522.2110759988,
  "xmax": 5684416.406934147,
  "ymax": 2935222.211075999,
  "spatialReference": {
   "wkt2": "PROJCRS[\"MAGNA_Transverse_Mercator\",BASEGEOGCRS[\"GCS_MAGNA\",DATUM[\"D_MAGNA\",ELLIPSOID[\"GRS_1980\",6378137.0,298.257222101,LENGTHUNIT[\"Meter\",1.0]]],PRIMEM[\"Greenwich\",0.0,ANGLEUNIT[\"Degree\",0.0174532925199433]],CS[ellipsoidal,2],AXIS[\"Latitude (lat)\",north,ORDER[1]],AXIS[\"Longitude (lon)\",east,ORDER[2]],ANGLEUNIT[\"Degree\",0.0174532925199433]],CONVERSION[\"Transverse_Mercator\",METHOD[\"Transverse_Mercator\"],PARAMETER[\"False_Easting\",5000000.0,LENGTHUNIT[\"Meter\",1.0]],PARAMETER[\"False_Northing\",2000000.0,LENGTHUNIT[\"Meter\",1.0]],PARAMETER[\"Central_Meridian\",-73.0,ANGLEUNIT[\"Degree\",0.0174532925199433]],PARAMETER[\"Scale_Factor\",0.9992,SCALEUNIT[\"Unity\",1.0]],PARAMETER[\"Latitude_Of_Origin\",4.0,ANGLEUNIT[\"Degree\",0.0174532925199433]]],CS[Cartesian,2],AXIS[\"Easting (X)\",east,ORDER[1]],AXIS[\"Northing (Y)\",north,ORDER[2]],LENGTHUNIT[\"Meter\",1.0]]",
   "wkt": "PROJCS[\"MAGNA_Transverse_Mercator\",GEOGCS[\"GCS_MAGNA\",DATUM[\"D_MAGNA\",SPHEROID[\"GRS_1980\",6378137.0,298.257222101]],PRIMEM[\"Greenwich\",0.0],UNIT[\"Degree\",0.0174532925199433]],PROJECTION[\"Transverse_Mercator\"],PARAMETER[\"False_Easting\",5000000.0],PARAMETER[\"False_Northing\",2000000.0],PARAMETER[\"Central_Meridian\",-73.0],PARAMETER[\"Scale_Factor\",0.9992],PARAMETER[\"Latitude_Of_Origin\",4.0],UNIT[\"Meter\",1.0]]"
  }
 },
 "initialExtent": {
  "xmin": 4330516.406934147,
  "ymin": 1090522.2110759988,
  "xmax": 5684416.406934147,
  "ymax": 2935222.211075999,
  "spatialReference": {
   "wkt2": "PROJCRS[\"MAGNA_Transverse_Mercator\",BASEGEOGCRS[\"GCS_MAGNA\",DATUM[\"D_MAGNA\",ELLIPSOID[\"GRS_1980\",6378137.0,298.257222101,LENGTHUNIT[\"Meter\",1.0]]],PRIMEM[\"Greenwich\",0.0,ANGLEUNIT[\"Degree\",0.0174532925199433]],CS[ellipsoidal,2],AXIS[\"Latitude (lat)\",north,ORDER[1]],AXIS[\"Longitude (lon)\",east,ORDER[2]],ANGLEUNIT[\"Degree\",0.0174532925199433]],CONVERSION[\"Transverse_Mercator\",METHOD[\"Transverse_Mercator\"],PARAMETER[\"False_Easting\",5000000.0,LENGTHUNIT[\"Meter\",1.0]],PARAMETER[\"False_Northing\",2000000.0,LENGTHUNIT[\"Meter\",1.0]],PARAMETER[\"Central_Meridian\",-73.0,ANGLEUNIT[\"Degree\",0.0174532925199433]],PARAMETER[\"Scale_Factor\",0.9992,SCALEUNIT[\"Unity\",1.0]],PARAMETER[\"Latitude_Of_Origin\",4.0,ANGLEUNIT[\"Degree\",0.0174532925199433]]],CS[Cartesian,2],AXIS[\"Easting (X)\",east,ORDER[1]],AXIS[\"Northing (Y)\",north,ORDER[2]],LENGTHUNIT[\"Meter\",1.0]]",
   "wkt": "PROJCS[\"MAGNA_Transverse_Mercator\",GEOGCS[\"GCS_MAGNA\",DATUM[\"D_MAGNA\",SPHEROID[\"GRS_1980\",6378137.0,298.257222101]],PRIMEM[\"Greenwich\",0.0],UNIT[\"Degree\",0.0174532925199433]],PROJECTION[\"Transverse_Mercator\"],PARAMETER[\"False_Easting\",5000000.0],PARAMETER[\"False_Northing\",2000000.0],PARAMETER[\"Central_Meridian\",-73.0],PARAMETER[\"Scale_Factor\",0.9992],PARAMETER[\"Latitude_Of_Origin\",4.0],UNIT[\"Meter\",1.0]]"
  }
 },
 "fullExtent": {
  "xmin": 4330516.406934147,
  "ymin": 1090522.2110759988,
  "xmax": 5684416.406934147,
  "ymax": 2935222.211075999,
  "spatialReference": {
   "wkt2": "PROJCRS[\"MAGNA_Transverse_Mercator\",BASEGEOGCRS[\"GCS_MAGNA\",DATUM[\"D_MAGNA\",ELLIPSOID[\"GRS_1980\",6378137.0,298.257222101,LENGTHUNIT[\"Meter\",1.0]]],PRIMEM[\"Greenwich\",0.0,ANGLEUNIT[\"Degree\",0.0174532925199433]],CS[ellipsoidal,2],AXIS[\"Latitude (lat)\",north,ORDER[1]],AXIS[\"Longitude (lon)\",east,ORDER[2]],ANGLEUNIT[\"Degree\",0.0174532925199433]],CONVERSION[\"Transverse_Mercator\",METHOD[\"Transverse_Mercator\"],PARAMETER[\"False_Easting\",5000000.0,LENGTHUNIT[\"Meter\",1.0]],PARAMETER[\"False_Northing\",2000000.0,LENGTHUNIT[\"Meter\",1.0]],PARAMETER[\"Central_Meridian\",-73.0,ANGLEUNIT[\"Degree\",0.0174532925199433]],PARAMETER[\"Scale_Factor\",0.9992,SCALEUNIT[\"Unity\",1.0]],PARAMETER[\"Latitude_Of_Origin\",4.0,ANGLEUNIT[\"Degree\",0.0174532925199433]]],CS[Cartesian,2],AXIS[\"Easting (X)\",east,ORDER[1]],AXIS[\"Northing (Y)\",north,ORDER[2]],LENGTHUNIT[\"Meter\",1.0]]",
   "wkt": "PROJCS[\"MAGNA_Transverse_Mercator\",GEOGCS[\"GCS_MAGNA\",DATUM[\"D_MAGNA\",SPHEROID[\"GRS_1980\",6378137.0,298.257222101]],PRIMEM[\"Greenwich\",0.0],UNIT[\"Degree\",0.0174532925199433]],PROJECTION[\"Transverse_Mercator\"],PARAMETER[\"False_Easting\",5000000.0],PARAMETER[\"False_Northing\",2000000.0],PARAMETER[\"Central_Meridian\",-73.0],PARAMETER[\"Scale_Factor\",0.9992],PARAMETER[\"Latitude_Of_Origin\",4.0],UNIT[\"Meter\",1.0]]"
  }
 },
 "sortableFields": "",
 "bandCount": 1,
 "pixelType": "F32",
 "minValues": [
  -90.38713836669922
 ],
 "maxValues": [
  5627.9599609375
 ],
 "meanValues": [
  560.4707490709498
 ],
 "stdvValues": [
  825.6805061443403
 ],
 "serviceProperties": "Center<\/MosaicMethod>First<\/MosaicOperator>true<\/SortAscending><\/LockImageID><\/TileOrderField>0<\/TileOrderBase>0.000000<\/AvgImageSpacingX>0.000000<\/AvgImageSpacingY>0.0<\/ViewPointX>0.0<\/ViewPointY>0.0<\/ViewPointDefShiftX>0.0<\/ViewPointDefShiftY>None<\/CompressionMethod>75<\/CompressionQuality>0.010000<\/CompressionTolerance>Bilinear<\/SamplingMethod><\/ImageServiceProperties><\/ImageServer>",
 "allowedFields": "",
 "hasMultidimensions": false,
 "pixelSizeX": 300,
 "pixelSizeY": 300,
 "meanPixelSize": 300,
 "datasetFormat": "GRID",
 "uncompressedSize": 111001748,
 "blockWidth": 256,
 "blockHeight": 16,
 "compressionType": "None",
 "bandNames": [
  "SRTM-30-300"
 ],
 "allowCopy": true,
 "allowAnalysis": true,
 "itemAccess": false,
 "inspectionCapabilities": "",
 "noDataValue": 3.3999999521443642E38,
 "noDataValues": [
  3.3999999521443642E38
 ],
 "minPixelSize": 0,
 "maxPixelSize": 0,
 "copyrightText": "",
 "serviceDataType": "esriImageServiceDataTypeGeneric",
 "serviceSourceType": "esriImageServiceSourceTypeDataset",
 "objectIdField": "",
 "fields": [],
 "capabilities": "Image,Metadata,Mensuration",
 "defaultMosaicMethod": "Center",
 "allowedMosaicMethods": "",
 "sortField": "",
 "sortValue": null,
 "sortAscending": true,
 "mosaicOperator": "First",
 "defaultCompressionQuality": 75,
 "defaultResamplingMethod": "Bilinear",
 "maxImageHeight": 4100,
 "maxImageWidth": 15000,
 "allowRasterFunction": true,
 "rasterFunctionInfos": [
  {
   "name": "DEMJP2",
   "description": "DEMJP2",
   "help": ""
  },
  {
   "name": "None",
   "description": "",
   "help": ""
  }
 ],
 "rasterTypeInfos": [
  {
   "name": "Raster Dataset",
   "description": "Supports all ArcGIS Raster Datasets",
   "help": ""
  }
 ],
 "mensurationCapabilities": "Basic",
 "hasHistograms": true,
 "hasColormap": false,
 "hasRasterAttributeTable": false,
 "minScale": 0,
 "maxScale": 0,
 "exportTilesAllowed": false,
 "supportsStatistics": false,
 "supportsAdvancedQueries": false,
 "editFieldsInfo": null,
 "ownershipBasedAccessControlForRasters": null,
 "allowComputeTiePoints": false,
 "useStandardizedQueries": true,
 "advancedQueryCapabilities": {
  "useStandardizedQueries": true,
  "supportsStatistics": false,
  "supportsOrderBy": false,
  "supportsDistinct": false,
  "supportsPagination": false
 },
 "spatialReference": {
  "wkt2": "PROJCRS[\"MAGNA_Transverse_Mercator\",BASEGEOGCRS[\"GCS_MAGNA\",DATUM[\"D_MAGNA\",ELLIPSOID[\"GRS_1980\",6378137.0,298.257222101,LENGTHUNIT[\"Meter\",1.0]]],PRIMEM[\"Greenwich\",0.0,ANGLEUNIT[\"Degree\",0.0174532925199433]],CS[ellipsoidal,2],AXIS[\"Latitude (lat)\",north,ORDER[1]],AXIS[\"Longitude (lon)\",east,ORDER[2]],ANGLEUNIT[\"Degree\",0.0174532925199433]],CONVERSION[\"Transverse_Mercator\",METHOD[\"Transverse_Mercator\"],PARAMETER[\"False_Easting\",5000000.0,LENGTHUNIT[\"Meter\",1.0]],PARAMETER[\"False_Northing\",2000000.0,LENGTHUNIT[\"Meter\",1.0]],PARAMETER[\"Central_Meridian\",-73.0,ANGLEUNIT[\"Degree\",0.0174532925199433]],PARAMETER[\"Scale_Factor\",0.9992,SCALEUNIT[\"Unity\",1.0]],PARAMETER[\"Latitude_Of_Origin\",4.0,ANGLEUNIT[\"Degree\",0.0174532925199433]]],CS[Cartesian,2],AXIS[\"Easting (X)\",east,ORDER[1]],AXIS[\"Northing (Y)\",north,ORDER[2]],LENGTHUNIT[\"Meter\",1.0]]",
  "wkt": "PROJCS[\"MAGNA_Transverse_Mercator\",GEOGCS[\"GCS_MAGNA\",DATUM[\"D_MAGNA\",SPHEROID[\"GRS_1980\",6378137.0,298.257222101]],PRIMEM[\"Greenwich\",0.0],UNIT[\"Degree\",0.0174532925199433]],PROJECTION[\"Transverse_Mercator\"],PARAMETER[\"False_Easting\",5000000.0],PARAMETER[\"False_Northing\",2000000.0],PARAMETER[\"Central_Meridian\",-73.0],PARAMETER[\"Scale_Factor\",0.9992],PARAMETER[\"Latitude_Of_Origin\",4.0],UNIT[\"Meter\",1.0]]"
 }
}
